BEGIN:VCALENDAR
VERSION:2.0
PRODID:-//LaChwet - ECPv6.13.2//NONSGML v1.0//EN
CALSCALE:GREGORIAN
METHOD:PUBLISH
X-WR-CALNAME:LaChwet
X-ORIGINAL-URL:https://lachwet.com
X-WR-CALDESC:Évènements pour LaChwet
REFRESH-INTERVAL;VALUE=DURATION:PT1H
X-Robots-Tag:noindex
X-PUBLISHED-TTL:PT1H
BEGIN:VTIMEZONE
TZID:Europe/Paris
BEGIN:DAYLIGHT
TZOFFSETFROM:+0100
TZOFFSETTO:+0200
TZNAME:CEST
DTSTART:20250330T010000
END:DAYLIGHT
BEGIN:STANDARD
TZOFFSETFROM:+0200
TZOFFSETTO:+0100
TZNAME:CET
DTSTART:20251026T010000
END:STANDARD
END:VTIMEZONE
BEGIN:VEVENT
DTSTART;VALUE=DATE:20251122
DTEND;VALUE=DATE:20251124
DTSTAMP:20260419T171043
CREATED:20250825T140215Z
LAST-MODIFIED:20251028T160556Z
UID:8934-1763769600-1763942399@lachwet.com
SUMMARY:Formation percussions corporelles : reportée
DESCRIPTION:<<  Tous les évènements 								\n				\n						\n				\n									\n\n				\n				\n										\n								\n				\n								\n			\n					\n								\n				\n								\n\n				\n				\n										\n						\n				\n					\n	\n				\n				\n				\n				\n									De 8h00 à 17h00 								\n				\n				\n				\n					Importantcette formation est reportée au printemps prochain. Plus d'infos prochainement. 				\n				\n				\n				\n					\n290€ 				\n				\n				\n				\n									Acompte 50€ à l’inscription.Possibilité de prise en charge au titre de la formation professionnelle (afdas\, fif-pl\, uniformation…) + 2€ d’adhésion à l’association LaChwet (sur place) 								\n				\n				\n				\n					Cet évènement est passé. \n				\n				\n				\n				\n									\n					\n						\n									S'INSCRIRE\n					\n					\n				\n								\n				\n						\n				\n									\n\n				\n				\n										\n						\n				\n					Faciliter les percussions corporelles auprès des publics vulnérables				\n				\n				\n				\n									Faciliter les percussions corporelles et la connexion. Cette formation inclusive permet aussi de favoriser la rencontre et l’accompagnement\, auprès des personnes vulnérables\, grâce à la musique et la percussion corporelle. Apprendre les percussions corporelles et vocales et la musique avec les objets afin de mener des ateliers auprès des publics : Jeunes enfants\, adolescents (à partir de 3 ans)Auprès de jeunes ou d’adultes en difficulté socialeParce qu’il est plus facile d’apprendre avec du plaisir et de la joie. Créer du lien social\, c’est agir.  Les objectifsTransmettre des techniques de jeux de percussion corporelle\, adaptables à différents publics ; personnes valides ou en situation de handicapSe constituer un répertoire de jeux musicaux avec :Les jeux de connexions et de brise glace.Les sons et les mouvements corporels.La musique avec les objets.Développer la qualité relationnelle des stagiaires avec leurs élèves\, résidents ou patients par la musique corporelle. Barth RussoCe stage est organisé par Barth Russo de la Cie Décalèou.Formateur\, musicien et comédien en établissements de soins. Barth est activé par lien humain et les arts vivants.Il est Comédien clown pour le Rire médecin depuis 2003 à Marseille en pédiatrie. Il crée à Marseille La Cie Décalèou en 2007 avec laquelle Il souhaite porter des projets artistiques qui mêlent l’art clownesque et la musique comme prétexte pour générer du lien social et surtout réveiller la joie dans la société. 								\n				\n				\n				\n									\n					\n						\n									Télécharger le programme des 2 jours\n					\n					\n				\n								\n				\n				\n				\n					Intervenant-e-s :  				\n				\n				\n				\n					Barth RUSSO 				\n				\n				\n				\n					Public : 				\n				\n				\n				\n					Educateur·trices\, animateur·ices\, professeur·es\, intervenant·es en musique (chant et/ou d'instrument). Pas de pré-requis nécessaires. Aucune base musicale n’est demandée.  				\n				\n				\n				\n					Nbre de participants : 				\n				\n				\n				\n					8 à 20 stagiaires 				\n				\n				\n				\n					Formation Eligible AFDAS FIFPL et Divers OPCO Compte formation  				\n				\n				\n				\n					/.  Non eligible CPF 				\n				\n				\n				\n							\n			\n						\n		\n						\n				\n				\n				\n					\n				\n				\n	\n	LaChwet\n	\n	Adresse :\n	\n\nLe Chot\n	\n		\,\n		Roquetaillade-et-Conilhac\,\n\n\n	11300\n\n	France\n\n\n\n\n\n	\n					\n						\n	 \n\n\n	\n	 \n\n\n\n	\n\n\n\n		\n	\n				\n				\n				\n				\n					\n	\n		\n\n	\n	Ajouter au calendrier	\n		\n	\n\n		\n			\n									\n	Google Agenda\n\n									\n	iCalendar\n\n									\n	Outlook 365\n\n									\n	Outlook Live
URL:https://lachwet.com/evenement/formation-percussions-corporelles-publics-adaptes/
LOCATION:LaChwet\, Le Chot\, Roquetaillade-et-Conilhac\, 11300\, France
CATEGORIES:Stage
ATTACH;FMTTYPE=image/jpeg:https://lachwet.com/wp-content/uploads/2025/08/bart-russo-ok.jpeg
END:VEVENT
END:VCALENDAR